BEGIN:VCALENDAR
VERSION:2.0
PRODID:-//Falla Nicolau Andreu i Adjacents - ECPv6.15.20//NONSGML v1.0//EN
CALSCALE:GREGORIAN
METHOD:PUBLISH
X-WR-CALNAME:Falla Nicolau Andreu i Adjacents
X-ORIGINAL-URL:https://nicolauandreu.com
X-WR-CALDESC:Eventos para Falla Nicolau Andreu i Adjacents
REFRESH-INTERVAL;VALUE=DURATION:PT1H
X-Robots-Tag:noindex
X-PUBLISHED-TTL:PT1H
BEGIN:VTIMEZONE
TZID:Europe/Paris
BEGIN:DAYLIGHT
TZOFFSETFROM:+0100
TZOFFSETTO:+0200
TZNAME:CEST
DTSTART:20250330T010000
END:DAYLIGHT
BEGIN:STANDARD
TZOFFSETFROM:+0200
TZOFFSETTO:+0100
TZNAME:CET
DTSTART:20251026T010000
END:STANDARD
BEGIN:DAYLIGHT
TZOFFSETFROM:+0100
TZOFFSETTO:+0200
TZNAME:CEST
DTSTART:20260329T010000
END:DAYLIGHT
BEGIN:STANDARD
TZOFFSETFROM:+0200
TZOFFSETTO:+0100
TZNAME:CET
DTSTART:20261025T010000
END:STANDARD
BEGIN:DAYLIGHT
TZOFFSETFROM:+0100
TZOFFSETTO:+0200
TZNAME:CEST
DTSTART:20270328T010000
END:DAYLIGHT
BEGIN:STANDARD
TZOFFSETFROM:+0200
TZOFFSETTO:+0100
TZNAME:CET
DTSTART:20271031T010000
END:STANDARD
END:VTIMEZONE
BEGIN:VEVENT
DTSTART;TZID=Europe/Paris:20260130T180000
DTEND;TZID=Europe/Paris:20260130T180000
DTSTAMP:20260426T021244
CREATED:20260127T203746Z
LAST-MODIFIED:20260127T203752Z
UID:8206-1769796000-1769796000@nicolauandreu.com
SUMMARY:MERIENDA INFANTIL CON ARTISTAS FALLEROS
DESCRIPTION:
URL:https://nicolauandreu.com/event/merienda-infantil-con-artistas-falleros/
LOCATION:Valencia
END:VEVENT
BEGIN:VEVENT
DTSTART;TZID=Europe/Paris:20260130T233000
DTEND;TZID=Europe/Paris:20260130T233000
DTSTAMP:20260426T021244
CREATED:20260115T154110Z
LAST-MODIFIED:20260115T154325Z
UID:8139-1769815800-1769815800@nicolauandreu.com
SUMMARY:ASAMBLEA GENERAL EXTRAORDINARIA
DESCRIPTION:
URL:https://nicolauandreu.com/event/asamblea-general-extraordinaria/
LOCATION:Falla Nicolau Andreu\, C/ San Juan de la Ribera 17\, Torrent\, Valencia\, 46900\, Spain
END:VEVENT
BEGIN:VEVENT
DTSTART;TZID=Europe/Paris:20260201T173000
DTEND;TZID=Europe/Paris:20260201T235900
DTSTAMP:20260426T021244
CREATED:20260115T154150Z
LAST-MODIFIED:20260127T203948Z
UID:8141-1769967000-1769990340@nicolauandreu.com
SUMMARY:PUESTA DE TRAJE REPRESENTANTES INFANTILES
DESCRIPTION:
URL:https://nicolauandreu.com/event/puesta-de-traje-representantes-infantiles/
LOCATION:Falla Nicolau Andreu\, C/ San Juan de la Ribera 17\, Torrent\, Valencia\, 46900\, Spain
END:VEVENT
BEGIN:VEVENT
DTSTART;TZID=Europe/Paris:20260207T183000
DTEND;TZID=Europe/Paris:20260207T235900
DTSTAMP:20260426T021244
CREATED:20250330T080936Z
LAST-MODIFIED:20260127T204016Z
UID:7385-1770489000-1770508740@nicolauandreu.com
SUMMARY:PRESENTACIÓN INFANTIL
DESCRIPTION:
URL:https://nicolauandreu.com/event/presentacion-infantil/
LOCATION:SALÓN PARROQUIAL\, C/ San Juan de la Ribera 3\, Torrent\, Valencia\, 46900\, Spain
END:VEVENT
BEGIN:VEVENT
DTSTART;VALUE=DATE:20260212
DTEND;VALUE=DATE:20260213
DTSTAMP:20260426T021244
CREATED:20260208T194010Z
LAST-MODIFIED:20260208T194016Z
UID:8226-1770854400-1770940799@nicolauandreu.com
SUMMARY:PONER BANDERAS MERCHE
DESCRIPTION:
URL:https://nicolauandreu.com/event/poner-banderas-merche/
LOCATION:Valencia
END:VEVENT
BEGIN:VEVENT
DTSTART;VALUE=DATE:20260215
DTEND;VALUE=DATE:20260216
DTSTAMP:20260426T021244
CREATED:20250530T151451Z
LAST-MODIFIED:20250530T181738Z
UID:7645-1771113600-1771199999@nicolauandreu.com
SUMMARY:ALL I OLI I ALL I PEBRE
DESCRIPTION:
URL:https://nicolauandreu.com/event/all-i-oli-i-all-i-pebre/
LOCATION:Valencia
END:VEVENT
BEGIN:VEVENT
DTSTART;TZID=Europe/Paris:20260217T203000
DTEND;TZID=Europe/Paris:20260217T223000
DTSTAMP:20260426T021244
CREATED:20260215T195502Z
LAST-MODIFIED:20260215T195505Z
UID:8282-1771360200-1771367400@nicolauandreu.com
SUMMARY:PUESTA BANDERAS MATEO
DESCRIPTION:
URL:https://nicolauandreu.com/event/puesta-banderas-mateo/
LOCATION:Valencia
END:VEVENT
BEGIN:VEVENT
DTSTART;TZID=Europe/Paris:20260219T203000
DTEND;TZID=Europe/Paris:20260219T223000
DTSTAMP:20260426T021244
CREATED:20260215T195544Z
LAST-MODIFIED:20260215T195544Z
UID:8284-1771533000-1771540200@nicolauandreu.com
SUMMARY:PUESTA BANDERAS NURIA
DESCRIPTION:
URL:https://nicolauandreu.com/event/puesta-banderas-nuria/
LOCATION:Valencia
END:VEVENT
BEGIN:VEVENT
DTSTART;TZID=Europe/Paris:20260220T230000
DTEND;TZID=Europe/Paris:20260220T233000
DTSTAMP:20260426T021244
CREATED:20260215T195713Z
LAST-MODIFIED:20260215T195713Z
UID:8287-1771628400-1771630200@nicolauandreu.com
SUMMARY:PRESENTACIÓN LLIBRET
DESCRIPTION:
URL:https://nicolauandreu.com/event/presentacion-llibret/
LOCATION:Valencia
END:VEVENT
BEGIN:VEVENT
DTSTART;VALUE=DATE:20260221
DTEND;VALUE=DATE:20260222
DTSTAMP:20260426T021244
CREATED:20250530T181543Z
LAST-MODIFIED:20250530T181923Z
UID:7647-1771632000-1771718399@nicolauandreu.com
SUMMARY:CRIDA
DESCRIPTION:
URL:https://nicolauandreu.com/event/crida/
LOCATION:Torre de Torrent\, PLAZA COLON\, Torrent\, Valencia\, 46900\, Spain
END:VEVENT
BEGIN:VEVENT
DTSTART;VALUE=DATE:20260221
DTEND;VALUE=DATE:20260222
DTSTAMP:20260426T021244
CREATED:20260217T095551Z
LAST-MODIFIED:20260217T095555Z
UID:8294-1771632000-1771718399@nicolauandreu.com
SUMMARY:LLEVAR NINOTS A EXPOSICION
DESCRIPTION:
URL:https://nicolauandreu.com/event/llevar-ninots-a-exposicion/
LOCATION:Valencia
END:VEVENT
BEGIN:VEVENT
DTSTART;VALUE=DATE:20260222
DTEND;VALUE=DATE:20260223
DTSTAMP:20260426T021244
CREATED:20250530T181622Z
LAST-MODIFIED:20250530T181622Z
UID:7649-1771718400-1771804799@nicolauandreu.com
SUMMARY:CABALGATA INFANTIL
DESCRIPTION:
URL:https://nicolauandreu.com/event/cabalgata-infantil/
LOCATION:Valencia
END:VEVENT
BEGIN:VEVENT
DTSTART;VALUE=DATE:20260228
DTEND;VALUE=DATE:20260301
DTSTAMP:20260426T021244
CREATED:20250530T181702Z
LAST-MODIFIED:20250530T181702Z
UID:7651-1772236800-1772323199@nicolauandreu.com
SUMMARY:CABALGATA MAYOR
DESCRIPTION:
URL:https://nicolauandreu.com/event/cabalgata-mayor/
LOCATION:Valencia
END:VEVENT
BEGIN:VEVENT
DTSTART;VALUE=DATE:20260307
DTEND;VALUE=DATE:20260308
DTSTAMP:20260426T021244
CREATED:20260215T195759Z
LAST-MODIFIED:20260215T195804Z
UID:8289-1772841600-1772927999@nicolauandreu.com
SUMMARY:CENA FALLERA MAYOR
DESCRIPTION:
URL:https://nicolauandreu.com/event/cena-fallera-mayor/
LOCATION:Valencia
END:VEVENT
BEGIN:VEVENT
DTSTART;VALUE=DATE:20260308
DTEND;VALUE=DATE:20260309
DTSTAMP:20260426T021244
CREATED:20260215T195828Z
LAST-MODIFIED:20260215T195833Z
UID:8291-1772928000-1773014399@nicolauandreu.com
SUMMARY:MERIENDA  FMI Y PRESIDENTE INFANTIL
DESCRIPTION:
URL:https://nicolauandreu.com/event/merienda-fmi-y-presidente-infantil/
LOCATION:Valencia
END:VEVENT
BEGIN:VEVENT
DTSTART;VALUE=DATE:20260314
DTEND;VALUE=DATE:20260315
DTSTAMP:20260426T021244
CREATED:20250522T152157Z
LAST-MODIFIED:20260217T095449Z
UID:7633-1773446400-1773532799@nicolauandreu.com
SUMMARY:CENA Y ORQUESTA
DESCRIPTION:La cena será para todos los falleros  y será total acometida de Festejos. Ellos idearan y ejecutaran dicha cena como ellos lo deseen. \n  \nEstas fechas y actos son los que están hablados en las diversas reuniones acontecidas\, y en futuras reuniones se seguirá hablando y concretando sobre ellos. \nLas insignias ya tenemos precio \, son a 1\,60\,-euros si se piden mas de 400 unidades\, ( q es el caso) . Silvia hablará con German para que nos dé una muestra y así verla. \nPañuelos\, Aldisport\, también tenemos precio\, a 9\,-euros con escudo\, Silvia tb hablará con German para ver si el precio se mantiene al ser otro tipo de imagen la que se va a poner en él.  ( subida foto al grupo) \nRopa merchandising\, Crisan (Mireia) \, es la que la va a hacer y Almudena se encarga de este cometido. Se propone hacerla de otro color nuevo para q sea significativo del 50\, se vota si o no\, y sale 7 a favor \, 1 abstencion y 1 un no \, por lo tanto será un color \, o azul marino o verde.\, pero según sea la imagen que se va a poner \, decidiremos el color\,\, por ver cual queda mejor. \nTapiz escudo terciopelo\, regalo de todos los representantes\, se le dá el OK\, en azul marino ( como los estandartes). Noelia gestionará el tema con el grupo de los representantes\, para informar precio y nos dirá como va. Almudena informa de que aun hay tiempo para encargarlo\, el chico ya lo sabe y nos tiene en cuenta. \n(factura en grupo subida por Almudena) \n  \nY por ultimo \, paso EL PRESUPUESTO \, aprox para saber por donde vamos y con lo que contamos… \n 
URL:https://nicolauandreu.com/event/castillo-fuegos-artificiales-cena-y-orquesta/
LOCATION:Valencia
END:VEVENT
BEGIN:VEVENT
DTSTART;VALUE=DATE:20260318
DTEND;VALUE=DATE:20260319
DTSTAMP:20260426T021244
CREATED:20260312T104922Z
LAST-MODIFIED:20260412T105023Z
UID:8563-1773792000-1773878399@nicolauandreu.com
SUMMARY:TORNEO DE TRUC FALLERO
DESCRIPTION:
URL:https://nicolauandreu.com/event/torneo-de-truc-fallero/
LOCATION:CARPA FALLA
CATEGORIES:DESTACADOS
ATTACH;FMTTYPE=image/jpeg:https://nicolauandreu.com/wp-content/uploads/2026/04/TORNEO-DE-TRUC-FALLERO.jpeg
END:VEVENT
BEGIN:VEVENT
DTSTART;TZID=Europe/Paris:20260417T223000
DTEND;TZID=Europe/Paris:20260417T233000
DTSTAMP:20260426T021244
CREATED:20260330T163520Z
LAST-MODIFIED:20260330T163535Z
UID:8373-1776465000-1776468600@nicolauandreu.com
SUMMARY:ASAMBLEA FIN DE EJERCICIO
DESCRIPTION:
URL:https://nicolauandreu.com/event/asamblea/
LOCATION:Valencia
END:VEVENT
BEGIN:VEVENT
DTSTART;TZID=Europe/Paris:20260425T193000
DTEND;TZID=Europe/Paris:20260425T235900
DTSTAMP:20260426T021244
CREATED:20260408T192959Z
LAST-MODIFIED:20260419T114611Z
UID:8488-1777145400-1777161540@nicolauandreu.com
SUMMARY:FERIA DE ABRIL
DESCRIPTION:
URL:https://nicolauandreu.com/event/feria-de-abril/
LOCATION:Falla Nicolau Andreu\, C/ San Juan de la Ribera 17\, Torrent\, Valencia\, 46900\, Spain
END:VEVENT
BEGIN:VEVENT
DTSTART;VALUE=DATE:20260430
DTEND;VALUE=DATE:20260501
DTSTAMP:20260426T021244
CREATED:20260408T193039Z
LAST-MODIFIED:20260408T193039Z
UID:8490-1777507200-1777593599@nicolauandreu.com
SUMMARY:ASAMBLEA PRESUPUESTOS Y APERTURA PLAZO CANDIDATOS FM Y PRESIDENTE INF.
DESCRIPTION:
URL:https://nicolauandreu.com/event/asamblea-presupuestos-y-apertura-plazo-candidatos-fm-y-presidente-inf/
LOCATION:Valencia
END:VEVENT
BEGIN:VEVENT
DTSTART;TZID=Europe/Paris:20260430T180000
DTEND;TZID=Europe/Paris:20260430T180000
DTSTAMP:20260426T021244
CREATED:20260420T093036Z
LAST-MODIFIED:20260420T093042Z
UID:8643-1777572000-1777572000@nicolauandreu.com
SUMMARY:DIA DE LA MADRE
DESCRIPTION:El pròxim 30 d’abril a les #18:00 h celebrarem un taller molt especial per a preparar un regal únic pel Dia de la Mare  \nUna vesprada creativa\, divertida i plena de detalls bonics per a sorprendre mamà com es mereix  \n No oblides portar moltes ganes de crear i passar-ho bé! \n T’esperem per a compartir junts una vesprada plena de creativitat i afecte 
URL:https://nicolauandreu.com/event/dia-de-la-madre/
LOCATION:Falla Nicolau Andreu\, C/ San Juan de la Ribera 17\, Torrent\, Valencia\, 46900\, Spain
END:VEVENT
BEGIN:VEVENT
DTSTART;TZID=Europe/Paris:20260508T230000
DTEND;TZID=Europe/Paris:20260508T230000
DTSTAMP:20260426T021244
CREATED:20260419T114417Z
LAST-MODIFIED:20260419T114424Z
UID:8630-1778281200-1778281200@nicolauandreu.com
SUMMARY:ELECCIÓN FALLERAS Y MAYORES Y PRESIDENTE INFANTIL
DESCRIPTION:
URL:https://nicolauandreu.com/event/eleccion-falleras-y-mayores-y-presidente-infantil/
LOCATION:Falla Nicolau Andreu\, C/ San Juan de la Ribera 17\, Torrent\, Valencia\, 46900\, Spain
END:VEVENT
BEGIN:VEVENT
DTSTART;VALUE=DATE:20260516
DTEND;VALUE=DATE:20260517
DTSTAMP:20260426T021244
CREATED:20260408T193103Z
LAST-MODIFIED:20260413T083141Z
UID:8492-1778889600-1778975999@nicolauandreu.com
SUMMARY:FIESTA BIENVENIDA ( por confirmar fecha)
DESCRIPTION:
URL:https://nicolauandreu.com/event/fiesta-bienvenida-2/
LOCATION:Valencia
END:VEVENT
END:VCALENDAR