BEGIN:VCALENDAR
VERSION:2.0
PRODID:-//Falla Nicolau Andreu i Adjacents - ECPv6.15.20//NONSGML v1.0//EN
CALSCALE:GREGORIAN
METHOD:PUBLISH
X-WR-CALNAME:Falla Nicolau Andreu i Adjacents
X-ORIGINAL-URL:https://nicolauandreu.com
X-WR-CALDESC:Eventos para Falla Nicolau Andreu i Adjacents
REFRESH-INTERVAL;VALUE=DURATION:PT1H
X-Robots-Tag:noindex
X-PUBLISHED-TTL:PT1H
BEGIN:VTIMEZONE
TZID:Europe/Paris
BEGIN:DAYLIGHT
TZOFFSETFROM:+0100
TZOFFSETTO:+0200
TZNAME:CEST
DTSTART:20240331T010000
END:DAYLIGHT
BEGIN:STANDARD
TZOFFSETFROM:+0200
TZOFFSETTO:+0100
TZNAME:CET
DTSTART:20241027T010000
END:STANDARD
BEGIN:DAYLIGHT
TZOFFSETFROM:+0100
TZOFFSETTO:+0200
TZNAME:CEST
DTSTART:20250330T010000
END:DAYLIGHT
BEGIN:STANDARD
TZOFFSETFROM:+0200
TZOFFSETTO:+0100
TZNAME:CET
DTSTART:20251026T010000
END:STANDARD
BEGIN:DAYLIGHT
TZOFFSETFROM:+0100
TZOFFSETTO:+0200
TZNAME:CEST
DTSTART:20260329T010000
END:DAYLIGHT
BEGIN:STANDARD
TZOFFSETFROM:+0200
TZOFFSETTO:+0100
TZNAME:CET
DTSTART:20261025T010000
END:STANDARD
END:VTIMEZONE
BEGIN:VEVENT
DTSTART;TZID=Europe/Paris:20251018T183000
DTEND;TZID=Europe/Paris:20251018T235900
DTSTAMP:20260425T211448
CREATED:20250818T131237Z
LAST-MODIFIED:20251013T074258Z
UID:8017-1760812200-1760831940@nicolauandreu.com
SUMMARY:GALA CORTOMETRAJES
DESCRIPTION:La gala se celebrará el sábado 18 de octubre en el Ayuntamiento de Torrent \, con dos sesiones :\nGala infantil: 18:00 h\nGala mayor: 21:30 h
URL:https://nicolauandreu.com/event/gala-cortometrajes/
LOCATION:AYUNTAMIENTO DE TORRENT\, C/ Ramón y Cajal 1\, Torrent\, Valencia\, 46900\, Spain
END:VEVENT
BEGIN:VEVENT
DTSTART;VALUE=DATE:20250926
DTEND;VALUE=DATE:20250927
DTSTAMP:20260425T211448
CREATED:20250907T185052Z
LAST-MODIFIED:20250907T185059Z
UID:8034-1758844800-1758931199@nicolauandreu.com
SUMMARY:PRESENTACIÓN PROYECTO SOLIDARIO CORTOMETRAJES
DESCRIPTION:
URL:https://nicolauandreu.com/event/presentacion-proyecto-solidario-cortometrajes/
LOCATION:Casal Falla
END:VEVENT
BEGIN:VEVENT
DTSTART;VALUE=DATE:20250920
DTEND;VALUE=DATE:20250921
DTSTAMP:20260425T211448
CREATED:20250522T151917Z
LAST-MODIFIED:20250522T151937Z
UID:7629-1758326400-1758412799@nicolauandreu.com
SUMMARY:PRESENTACIÓN PASODOBLE Y GALA DEL 50 ANIVERSARIO
DESCRIPTION:VINO DE HONOR \nEn este punto\, el pasodoble falta saber el importe tanto del acto en si como cuanto es el pasodoble. Respecto a la gala \, Noelia ha creado ya el grupo donde están todos los representantes\, para informar de todo\, acto y  regalo a la comisión.  En cuanto al Vino de Honor\, Silvia preguntará precios de lo q nos cuesta un catering\, si no es viable\, lo realizaremos nosotros.
URL:https://nicolauandreu.com/event/presentacion-pasodoble-y-gala-del-50-aniversario/
END:VEVENT
BEGIN:VEVENT
DTSTART;VALUE=DATE:20250912
DTEND;VALUE=DATE:20250913
DTSTAMP:20260425T211448
CREATED:20250719T214222Z
LAST-MODIFIED:20250907T185202Z
UID:7775-1757635200-1757721599@nicolauandreu.com
SUMMARY:PRESENTACIÓN LOGO 50 ANIVERSARIO
DESCRIPTION:
URL:https://nicolauandreu.com/event/presentacion-solidario-cortos-y-presentacion-logo-50-aniversario/
LOCATION:Casa de la cultura
END:VEVENT
BEGIN:VEVENT
DTSTART;VALUE=DATE:20250906
DTEND;VALUE=DATE:20250907
DTSTAMP:20260425T211448
CREATED:20250713T062157Z
LAST-MODIFIED:20250713T062209Z
UID:7764-1757116800-1757203199@nicolauandreu.com
SUMMARY:DEMANÀ
DESCRIPTION:
URL:https://nicolauandreu.com/event/demana/
LOCATION:Falla Nicolau Andreu\, C/ San Juan de la Ribera 17\, Torrent\, Valencia\, 46900\, Spain
END:VEVENT
BEGIN:VEVENT
DTSTART;VALUE=DATE:20250713
DTEND;VALUE=DATE:20250714
DTSTAMP:20260425T211448
CREATED:20250522T152334Z
LAST-MODIFIED:20250522T152334Z
UID:7637-1752364800-1752451199@nicolauandreu.com
SUMMARY:CONCURSO PLAYBACKS INFANTIL
DESCRIPTION:
URL:https://nicolauandreu.com/event/concurso-playbacks-infantil/
END:VEVENT
BEGIN:VEVENT
DTSTART;VALUE=DATE:20250628
DTEND;VALUE=DATE:20250629
DTSTAMP:20260425T211448
CREATED:20250412T095132Z
LAST-MODIFIED:20250618T104845Z
UID:7455-1751068800-1751155199@nicolauandreu.com
SUMMARY:FIESTA DE VERANO ( SAN JUAN)
DESCRIPTION:
URL:https://nicolauandreu.com/event/fiesta-de-verano-san-juan/
LOCATION:Falla Nicolau Andreu\, C/ San Juan de la Ribera 17\, Torrent\, Valencia\, 46900\, Spain
ATTACH;FMTTYPE=image/jpeg:https://nicolauandreu.com/wp-content/uploads/2025/04/fiesta-ibicenca-scaled.jpg
END:VEVENT
BEGIN:VEVENT
DTSTART;TZID=Europe/Paris:20250618T080000
DTEND;TZID=Europe/Paris:20250618T170000
DTSTAMP:20260425T211448
CREATED:20250618T105059Z
LAST-MODIFIED:20250618T105107Z
UID:7754-1750233600-1750266000@nicolauandreu.com
SUMMARY:GALA CORTOMETRAGES
DESCRIPTION:
URL:https://nicolauandreu.com/event/gala-cortometrages/
LOCATION:AYUNTAMIENTO DE TORRENT\, C/ Ramón y Cajal 1\, Torrent\, Valencia\, 46900\, Spain
ATTACH;FMTTYPE=image/jpeg:https://nicolauandreu.com/wp-content/uploads/2025/06/cartel-cortos-2026-1.jpg
END:VEVENT
BEGIN:VEVENT
DTSTART;TZID=Europe/Paris:20250614T183000
DTEND;TZID=Europe/Paris:20250614T183000
DTSTAMP:20260425T211448
CREATED:20250522T152004Z
LAST-MODIFIED:20250603T085921Z
UID:7635-1749925800-1749925800@nicolauandreu.com
SUMMARY:MERIENDA BIENVENIDA REPRESENTANTES
DESCRIPTION:
URL:https://nicolauandreu.com/event/merienda-bienvenida-representantes/
ATTACH;FMTTYPE=image/jpeg:https://nicolauandreu.com/wp-content/uploads/2025/05/Imagen-de-WhatsApp-2025-06-02-a-las-20.04.53_d8657c79.jpg
END:VEVENT
BEGIN:VEVENT
DTSTART;TZID=Europe/Paris:20250613T233000
DTEND;TZID=Europe/Paris:20250613T233000
DTSTAMP:20260425T211448
CREATED:20250609T150351Z
LAST-MODIFIED:20250609T150400Z
UID:7710-1749857400-1749857400@nicolauandreu.com
SUMMARY:ACTE PENJAT DE CUADRE
DESCRIPTION:
URL:https://nicolauandreu.com/event/acte-penjat-de-cuadre/
LOCATION:Falla Nicolau Andreu\, C/ San Juan de la Ribera 17\, Torrent\, Valencia\, 46900\, Spain
END:VEVENT
BEGIN:VEVENT
DTSTART;TZID=Europe/Paris:20250531T190000
DTEND;TZID=Europe/Paris:20250531T235900
DTSTAMP:20260425T211448
CREATED:20250330T080740Z
LAST-MODIFIED:20250527T170133Z
UID:7381-1748718000-1748735940@nicolauandreu.com
SUMMARY:FIESTA BIENVENIDA
DESCRIPTION:
URL:https://nicolauandreu.com/event/fiesta-bienvenida/
LOCATION:Casal Falla
ATTACH;FMTTYPE=image/jpeg:https://nicolauandreu.com/wp-content/uploads/2025/03/FIESTA-BIENVE.jpg
END:VEVENT
BEGIN:VEVENT
DTSTART;TZID=Europe/Paris:20250531T183000
DTEND;TZID=Europe/Paris:20250531T183000
DTSTAMP:20260425T211448
CREATED:20250527T135850Z
LAST-MODIFIED:20250527T165911Z
UID:7641-1748716200-1748716200@nicolauandreu.com
SUMMARY:BESAMANOS
DESCRIPTION:
URL:https://nicolauandreu.com/event/besamanos/
LOCATION:Capilla colegio la Purísima
END:VEVENT
BEGIN:VEVENT
DTSTART;TZID=Europe/Paris:20250523T223000
DTEND;TZID=Europe/Paris:20250523T223000
DTSTAMP:20260425T211448
CREATED:20250522T090228Z
LAST-MODIFIED:20250522T152722Z
UID:7575-1748039400-1748039400@nicolauandreu.com
SUMMARY:ASAMBLEA EXTRORDINARIA SUBIDA DE CUOTAS
DESCRIPTION:
URL:https://nicolauandreu.com/event/asamblea-extrordinaria-subida-de-cuotas/
LOCATION:Falla Nicolau Andreu\, C/ San Juan de la Ribera 17\, Torrent\, Valencia\, 46900\, Spain
END:VEVENT
BEGIN:VEVENT
DTSTART;TZID=Europe/Paris:20250517T100000
DTEND;TZID=Europe/Paris:20250517T100000
DTSTAMP:20260425T211448
CREATED:20250516T160821Z
LAST-MODIFIED:20250516T161140Z
UID:7598-1747476000-1747476000@nicolauandreu.com
SUMMARY:IR A VER CARROZAS
DESCRIPTION:Carrozas Demets  \n\n\n\nDirección:  \n\nC/ del Comte d’Almenara\, 14\, Poblats Marítims\, 46026 València\, Valencia\n\n\n\n\n\n\nTeléfono: 654 41 72 50\n\n\n\n\n\nProvincia: Valencia
URL:https://nicolauandreu.com/event/ir-a-ver-carrozas/
LOCATION:Carrozas Demets\, C/ del Comte d'Almenara\, 14\, Poblats Marítims\, Valencia\, Valencia\, 46026\, Spain
END:VEVENT
BEGIN:VEVENT
DTSTART;VALUE=DATE:20250510
DTEND;VALUE=DATE:20250511
DTSTAMP:20260425T211448
CREATED:20250423T200709Z
LAST-MODIFIED:20250423T200709Z
UID:7520-1746835200-1746921599@nicolauandreu.com
SUMMARY:CRUZ DE MAYO
DESCRIPTION:
URL:https://nicolauandreu.com/event/cruz-de-mayo/
END:VEVENT
BEGIN:VEVENT
DTSTART;VALUE=DATE:20250509
DTEND;VALUE=DATE:20250510
DTSTAMP:20260425T211448
CREATED:20250330T080709Z
LAST-MODIFIED:20250414T203421Z
UID:7379-1746748800-1746835199@nicolauandreu.com
SUMMARY:ELECCIÓN FALLERA MAYOR Y PRESIDENTE INFANTIL
DESCRIPTION:
URL:https://nicolauandreu.com/event/eleccion-fallera-mayor-y-presidente-infantil/
LOCATION:Casal Falla
END:VEVENT
BEGIN:VEVENT
DTSTART;TZID=Europe/Paris:20250503T190000
DTEND;TZID=Europe/Paris:20250503T235900
DTSTAMP:20260425T211448
CREATED:20250330T080532Z
LAST-MODIFIED:20250422T172207Z
UID:7375-1746298800-1746316740@nicolauandreu.com
SUMMARY:FIESTA FERIA DE ABRIL
DESCRIPTION:
URL:https://nicolauandreu.com/event/fiesta-feria-de-abril/
LOCATION:Casal Falla
ATTACH;FMTTYPE=image/png:https://nicolauandreu.com/wp-content/uploads/2025/03/Cartel-Feria-de-abril.png
END:VEVENT
BEGIN:VEVENT
DTSTART;VALUE=DATE:20250502
DTEND;VALUE=DATE:20250503
DTSTAMP:20260425T211448
CREATED:20250330T080633Z
LAST-MODIFIED:20250414T213107Z
UID:7377-1746144000-1746230399@nicolauandreu.com
SUMMARY:ASAMBLEA PRESUPUESTOS Y APERTURA PLAZO PRESENTACION FM Y PRESIDENTE INFANTIL
DESCRIPTION:
URL:https://nicolauandreu.com/event/asamblea-presupuestos-y-apertura-plazo-presentacion-fm-y-presidente-infantil/
LOCATION:Casal Falla
END:VEVENT
BEGIN:VEVENT
DTSTART;TZID=Europe/Paris:20250428T080000
DTEND;TZID=Europe/Paris:20250508T170000
DTSTAMP:20260425T211448
CREATED:20250423T200546Z
LAST-MODIFIED:20250423T200546Z
UID:7518-1745827200-1746723600@nicolauandreu.com
SUMMARY:APERTURA CANDIDATURA A FM Y PRESIDENTE INFANTIL
DESCRIPTION:
URL:https://nicolauandreu.com/event/apertura-candidatura-a-fm-y-presidente-infantil/
END:VEVENT
BEGIN:VEVENT
DTSTART;TZID=Europe/Paris:20250425T180000
DTEND;TZID=Europe/Paris:20250425T180000
DTSTAMP:20260425T211448
CREATED:20250412T095249Z
LAST-MODIFIED:20250422T171952Z
UID:7457-1745604000-1745604000@nicolauandreu.com
SUMMARY:TALLER DIA DE LA MADRE
DESCRIPTION:¡Niños y niñas de la falla!\nHa llegado el momento de sacar vuestro lado más artístico para sorprender a las mamás con un regalo hecho con mucho cariño. \nPreparaos para una tarde llena de creatividad\, diversión y amor\, donde el mejor regalo será el que salga del corazón \n¡Os esperamos a todos en el Casal!\nNo olvidéis enviar el listado de participantes para tener todo listo \n¡Las mamás van a alucinar con vuestro arte!\n¡No faltéis!
URL:https://nicolauandreu.com/event/merienda-infantiles/
LOCATION:Falla Nicolau Andreu\, C/ San Juan de la Ribera 17\, Torrent\, Valencia\, 46900\, Spain
ATTACH;FMTTYPE=image/jpeg:https://nicolauandreu.com/wp-content/uploads/2025/04/Imagen-de-WhatsApp-2025-04-22-a-las-15.22.29_4324b3c2.jpg
END:VEVENT
BEGIN:VEVENT
DTSTART;TZID=Europe/Paris:20250411T233000
DTEND;TZID=Europe/Paris:20250411T233000
DTSTAMP:20260425T211448
CREATED:20250330T080445Z
LAST-MODIFIED:20250330T081229Z
UID:7372-1744414200-1744414200@nicolauandreu.com
SUMMARY:ASAMBLEA GENERAL CIERRE EJERCICIO 2025
DESCRIPTION:
URL:https://nicolauandreu.com/event/asamblea-general-cierre-ejercicio-2025/
LOCATION:Casal Falla
END:VEVENT
END:VCALENDAR