BEGIN:VCALENDAR
VERSION:2.0
PRODID:-//Falla Nicolau Andreu i Adjacents - ECPv6.15.20//NONSGML v1.0//EN
CALSCALE:GREGORIAN
METHOD:PUBLISH
X-WR-CALNAME:Falla Nicolau Andreu i Adjacents
X-ORIGINAL-URL:https://nicolauandreu.com
X-WR-CALDESC:Eventos para Falla Nicolau Andreu i Adjacents
REFRESH-INTERVAL;VALUE=DURATION:PT1H
X-Robots-Tag:noindex
X-PUBLISHED-TTL:PT1H
BEGIN:VTIMEZONE
TZID:Europe/Paris
BEGIN:DAYLIGHT
TZOFFSETFROM:+0100
TZOFFSETTO:+0200
TZNAME:CEST
DTSTART:20240331T010000
END:DAYLIGHT
BEGIN:STANDARD
TZOFFSETFROM:+0200
TZOFFSETTO:+0100
TZNAME:CET
DTSTART:20241027T010000
END:STANDARD
BEGIN:DAYLIGHT
TZOFFSETFROM:+0100
TZOFFSETTO:+0200
TZNAME:CEST
DTSTART:20250330T010000
END:DAYLIGHT
BEGIN:STANDARD
TZOFFSETFROM:+0200
TZOFFSETTO:+0100
TZNAME:CET
DTSTART:20251026T010000
END:STANDARD
BEGIN:DAYLIGHT
TZOFFSETFROM:+0100
TZOFFSETTO:+0200
TZNAME:CEST
DTSTART:20260329T010000
END:DAYLIGHT
BEGIN:STANDARD
TZOFFSETFROM:+0200
TZOFFSETTO:+0100
TZNAME:CET
DTSTART:20261025T010000
END:STANDARD
END:VTIMEZONE
BEGIN:VEVENT
DTSTART;TZID=Europe/Paris:20251107T210000
DTEND;TZID=Europe/Paris:20251107T210000
DTSTAMP:20260426T003812
CREATED:20251027T073928Z
LAST-MODIFIED:20251027T074303Z
UID:8068-1762549200-1762549200@nicolauandreu.com
SUMMARY:NOCHE TORNEO DE POKER
DESCRIPTION:
URL:https://nicolauandreu.com/event/noche-torneo-de-poker/
LOCATION:Valencia
END:VEVENT
BEGIN:VEVENT
DTSTART;TZID=Europe/Paris:20251114T213000
DTEND;TZID=Europe/Paris:20251114T235900
DTSTAMP:20260426T003812
CREATED:20251105T133118Z
LAST-MODIFIED:20251111T075854Z
UID:8074-1763155800-1763164740@nicolauandreu.com
SUMMARY:ENTREGA CHEQUE PREMIO CORTOS A FALLA GANADORA
DESCRIPTION:
URL:https://nicolauandreu.com/event/entrega-cheque-premio-cortos-a-falla-ganadora-por-confirmar/
LOCATION:Valencia
END:VEVENT
BEGIN:VEVENT
DTSTART;VALUE=DATE:20251115
DTEND;VALUE=DATE:20251116
DTSTAMP:20260426T003812
CREATED:20250412T095443Z
LAST-MODIFIED:20250527T170427Z
UID:7459-1763164800-1763251199@nicolauandreu.com
SUMMARY:CENA PROCLAMACIÓN
DESCRIPTION:Menú Luna – 43€\nEntrante individual\nIbéricos y queso curado\nCroquetad de pollo a l’ast\nTosta de burrata\nTartaleta de titaina\nNuestra ensaladilla rusa con picos\nSegundo individual a elegir\nBacalao glaseado en una crema de miel con parmentier de\nlima y verduritas confitadas\no\nCarrillera ibérica en salsa de boletus con pastel de patatas y\ncebollitas glaseadas\nPostre individual (mesa completa)\nBrownie de chocolate\, tierra dulce y helado de vainilla\no\nNuestra torrija con helado de leche merengada\nBebidas\, pan y cafetería\nAgua\, refrescos y cerveza\nVinos D.O. Valencia\, Lírico blanco y tinto \n  \nMenú Pekes Cena- 25€\nEntrante individual\nPatatas bravas\nCalamares a la andaluza\nNuggets de pollo\nSegundo individual\nHamburguesa completa con patatas\nPostre individual\nCono de helado\nServicio de bebida infantil\nAgua y refrescos\nServicios Opcionales para grupos\nHora extra de espacio tras el evento – 100€ por 1 hora.\nServicio de copas y licores básico – 6€ copa (servicio por tokens).\nServicio de copas y licores premium – 8€ copa (servicio por tokens).\nBarra Libre 2 horas – 24€ por persona\, hora extra 12€ por persona (mínimo 80 personas).\nDisponemos de otros servicios de profesionales externos recomendados por nuestro equipo como\nanimación\, artistas\, música…\nPara información sobre estos servicios póngase en contacto con nosotros.
URL:https://nicolauandreu.com/event/cena-proclamacion-por-confirmar/
LOCATION:Restaurante el Romeral\, Cami del Romeral 13\, TORRENT\, Valencia\, 46901\, Spain
END:VEVENT
BEGIN:VEVENT
DTSTART;VALUE=DATE:20251121
DTEND;VALUE=DATE:20251122
DTSTAMP:20260426T003812
CREATED:20251105T132834Z
LAST-MODIFIED:20251105T133008Z
UID:8072-1763683200-1763769599@nicolauandreu.com
SUMMARY:ASAMBLEA GENERAL
DESCRIPTION:
URL:https://nicolauandreu.com/event/asamblea-general/
LOCATION:Casal Falla
END:VEVENT
BEGIN:VEVENT
DTSTART;VALUE=DATE:20251122
DTEND;VALUE=DATE:20251123
DTSTAMP:20260426T003812
CREATED:20251003T222400Z
LAST-MODIFIED:20251114T102450Z
UID:8056-1763769600-1763855999@nicolauandreu.com
SUMMARY:NOKTOBERFEST
DESCRIPTION:
URL:https://nicolauandreu.com/event/noktober-fest/
LOCATION:Casal Falla
END:VEVENT
BEGIN:VEVENT
DTSTART;TZID=Europe/Paris:20251127T193000
DTEND;TZID=Europe/Paris:20251127T213000
DTSTAMP:20260426T003812
CREATED:20251123T101043Z
LAST-MODIFIED:20251123T101043Z
UID:8087-1764271800-1764279000@nicolauandreu.com
SUMMARY:REUNION CABALGATA INFANTIL
DESCRIPTION:
URL:https://nicolauandreu.com/event/reunion-cabalgata-infantil/
LOCATION:Falla Nicolau Andreu\, C/ San Juan de la Ribera 17\, Torrent\, Valencia\, 46900\, Spain
END:VEVENT
BEGIN:VEVENT
DTSTART;TZID=Europe/Paris:20251128T000000
DTEND;TZID=Europe/Paris:20251128T233000
DTSTAMP:20260426T003812
CREATED:20251105T133206Z
LAST-MODIFIED:20251123T100913Z
UID:8076-1764288000-1764372600@nicolauandreu.com
SUMMARY:PRESENTACIÓN BOCETOS Y CUADRO DE HONOR
DESCRIPTION:
URL:https://nicolauandreu.com/event/presentacion-bocetos-y-cuadro-de-honor/
LOCATION:Casal Falla
END:VEVENT
END:VCALENDAR