BEGIN:VCALENDAR
VERSION:2.0
PRODID:-//Falla Nicolau Andreu i Adjacents - ECPv6.15.20//NONSGML v1.0//EN
CALSCALE:GREGORIAN
METHOD:PUBLISH
X-ORIGINAL-URL:https://nicolauandreu.com
X-WR-CALDESC:Eventos para Falla Nicolau Andreu i Adjacents
REFRESH-INTERVAL;VALUE=DURATION:PT1H
X-Robots-Tag:noindex
X-PUBLISHED-TTL:PT1H
BEGIN:VTIMEZONE
TZID:Europe/Paris
BEGIN:DAYLIGHT
TZOFFSETFROM:+0100
TZOFFSETTO:+0200
TZNAME:CEST
DTSTART:20240331T010000
END:DAYLIGHT
BEGIN:STANDARD
TZOFFSETFROM:+0200
TZOFFSETTO:+0100
TZNAME:CET
DTSTART:20241027T010000
END:STANDARD
BEGIN:DAYLIGHT
TZOFFSETFROM:+0100
TZOFFSETTO:+0200
TZNAME:CEST
DTSTART:20250330T010000
END:DAYLIGHT
BEGIN:STANDARD
TZOFFSETFROM:+0200
TZOFFSETTO:+0100
TZNAME:CET
DTSTART:20251026T010000
END:STANDARD
BEGIN:DAYLIGHT
TZOFFSETFROM:+0100
TZOFFSETTO:+0200
TZNAME:CEST
DTSTART:20260329T010000
END:DAYLIGHT
BEGIN:STANDARD
TZOFFSETFROM:+0200
TZOFFSETTO:+0100
TZNAME:CET
DTSTART:20261025T010000
END:STANDARD
END:VTIMEZONE
BEGIN:VEVENT
DTSTART;VALUE=DATE:20251207
DTEND;VALUE=DATE:20251208
DTSTAMP:20260425T230257
CREATED:20251105T133420Z
LAST-MODIFIED:20251105T133420Z
UID:8080-1765065600-1765151999@nicolauandreu.com
SUMMARY:PUESTA DE TRAJE FALLERA MAYOR
DESCRIPTION:
URL:https://nicolauandreu.com/event/puesta-de-traje-fallera-mayor/
LOCATION:Valencia
END:VEVENT
BEGIN:VEVENT
DTSTART;VALUE=DATE:20251209
DTEND;VALUE=DATE:20251212
DTSTAMP:20260425T230257
CREATED:20251105T133257Z
LAST-MODIFIED:20251123T100814Z
UID:8078-1765238400-1765497599@nicolauandreu.com
SUMMARY:TOMAS FUENTES
DESCRIPTION:
URL:https://nicolauandreu.com/event/tomas-fuentes/
LOCATION:Casal Falla
END:VEVENT
BEGIN:VEVENT
DTSTART;VALUE=DATE:20251210
DTEND;VALUE=DATE:20251212
DTSTAMP:20260425T230257
CREATED:20251210T102352Z
LAST-MODIFIED:20251210T102352Z
UID:8095-1765324800-1765497599@nicolauandreu.com
SUMMARY:VENTA ENTRADAS PRESENTACIÓN
DESCRIPTION:
URL:https://nicolauandreu.com/event/venta-entradas-presentacion/
LOCATION:Valencia
END:VEVENT
BEGIN:VEVENT
DTSTART;VALUE=DATE:20251211
DTEND;VALUE=DATE:20251212
DTSTAMP:20260425T230257
CREATED:20251123T122649Z
LAST-MODIFIED:20251210T102446Z
UID:8089-1765411200-1765497599@nicolauandreu.com
SUMMARY:TALLER INFANTIL DE NAVIDAD
DESCRIPTION:
URL:https://nicolauandreu.com/event/taller-infantil-de-navidad/
LOCATION:Valencia
END:VEVENT
BEGIN:VEVENT
DTSTART;VALUE=DATE:20251213
DTEND;VALUE=DATE:20251214
DTSTAMP:20260425T230257
CREATED:20250330T080851Z
LAST-MODIFIED:20250330T080851Z
UID:7383-1765584000-1765670399@nicolauandreu.com
SUMMARY:PRESENTACIÓN MAYOR
DESCRIPTION:
URL:https://nicolauandreu.com/event/presentacion-mayor/
LOCATION:SALÓN PARROQUIAL\, C/ San Juan de la Ribera 3\, Torrent\, Valencia\, 46900\, Spain
END:VEVENT
BEGIN:VEVENT
DTSTART;TZID=Europe/Paris:20251218T203000
DTEND;TZID=Europe/Paris:20251218T203000
DTSTAMP:20260425T230257
CREATED:20251210T102547Z
LAST-MODIFIED:20251210T103026Z
UID:8097-1766089800-1766089800@nicolauandreu.com
SUMMARY:REUNION CABALGATA MAYOR
DESCRIPTION:
URL:https://nicolauandreu.com/event/reunion-cabalgata-mayor/
LOCATION:Valencia
END:VEVENT
BEGIN:VEVENT
DTSTART;VALUE=DATE:20251220
DTEND;VALUE=DATE:20251221
DTSTAMP:20260425T230257
CREATED:20250423T200841Z
LAST-MODIFIED:20251003T222303Z
UID:7524-1766188800-1766275199@nicolauandreu.com
SUMMARY:CENA DE NAVIDAD
DESCRIPTION:
URL:https://nicolauandreu.com/event/cena-de-navidad/
LOCATION:Falla Nicolau Andreu\, C/ San Juan de la Ribera 17\, Torrent\, Valencia\, 46900\, Spain
END:VEVENT
END:VCALENDAR