BEGIN:VCALENDAR
VERSION:2.0
PRODID:-//Falla Nicolau Andreu i Adjacents - ECPv6.15.20//NONSGML v1.0//EN
CALSCALE:GREGORIAN
METHOD:PUBLISH
X-ORIGINAL-URL:https://nicolauandreu.com
X-WR-CALDESC:Eventos para Falla Nicolau Andreu i Adjacents
REFRESH-INTERVAL;VALUE=DURATION:PT1H
X-Robots-Tag:noindex
X-PUBLISHED-TTL:PT1H
BEGIN:VTIMEZONE
TZID:Europe/Paris
BEGIN:DAYLIGHT
TZOFFSETFROM:+0100
TZOFFSETTO:+0200
TZNAME:CEST
DTSTART:20250330T010000
END:DAYLIGHT
BEGIN:STANDARD
TZOFFSETFROM:+0200
TZOFFSETTO:+0100
TZNAME:CET
DTSTART:20251026T010000
END:STANDARD
BEGIN:DAYLIGHT
TZOFFSETFROM:+0100
TZOFFSETTO:+0200
TZNAME:CEST
DTSTART:20260329T010000
END:DAYLIGHT
BEGIN:STANDARD
TZOFFSETFROM:+0200
TZOFFSETTO:+0100
TZNAME:CET
DTSTART:20261025T010000
END:STANDARD
BEGIN:DAYLIGHT
TZOFFSETFROM:+0100
TZOFFSETTO:+0200
TZNAME:CEST
DTSTART:20270328T010000
END:DAYLIGHT
BEGIN:STANDARD
TZOFFSETFROM:+0200
TZOFFSETTO:+0100
TZNAME:CET
DTSTART:20271031T010000
END:STANDARD
END:VTIMEZONE
BEGIN:VEVENT
DTSTART;VALUE=DATE:20260307
DTEND;VALUE=DATE:20260308
DTSTAMP:20260425T173412
CREATED:20260215T195759Z
LAST-MODIFIED:20260215T195804Z
UID:8289-1772841600-1772927999@nicolauandreu.com
SUMMARY:CENA FALLERA MAYOR
DESCRIPTION:
URL:https://nicolauandreu.com/event/cena-fallera-mayor/
LOCATION:Valencia
END:VEVENT
BEGIN:VEVENT
DTSTART;VALUE=DATE:20260308
DTEND;VALUE=DATE:20260309
DTSTAMP:20260425T173412
CREATED:20260215T195828Z
LAST-MODIFIED:20260215T195833Z
UID:8291-1772928000-1773014399@nicolauandreu.com
SUMMARY:MERIENDA  FMI Y PRESIDENTE INFANTIL
DESCRIPTION:
URL:https://nicolauandreu.com/event/merienda-fmi-y-presidente-infantil/
LOCATION:Valencia
END:VEVENT
BEGIN:VEVENT
DTSTART;VALUE=DATE:20260314
DTEND;VALUE=DATE:20260315
DTSTAMP:20260425T173412
CREATED:20250522T152157Z
LAST-MODIFIED:20260217T095449Z
UID:7633-1773446400-1773532799@nicolauandreu.com
SUMMARY:CENA Y ORQUESTA
DESCRIPTION:La cena será para todos los falleros  y será total acometida de Festejos. Ellos idearan y ejecutaran dicha cena como ellos lo deseen. \n  \nEstas fechas y actos son los que están hablados en las diversas reuniones acontecidas\, y en futuras reuniones se seguirá hablando y concretando sobre ellos. \nLas insignias ya tenemos precio \, son a 1\,60\,-euros si se piden mas de 400 unidades\, ( q es el caso) . Silvia hablará con German para que nos dé una muestra y así verla. \nPañuelos\, Aldisport\, también tenemos precio\, a 9\,-euros con escudo\, Silvia tb hablará con German para ver si el precio se mantiene al ser otro tipo de imagen la que se va a poner en él.  ( subida foto al grupo) \nRopa merchandising\, Crisan (Mireia) \, es la que la va a hacer y Almudena se encarga de este cometido. Se propone hacerla de otro color nuevo para q sea significativo del 50\, se vota si o no\, y sale 7 a favor \, 1 abstencion y 1 un no \, por lo tanto será un color \, o azul marino o verde.\, pero según sea la imagen que se va a poner \, decidiremos el color\,\, por ver cual queda mejor. \nTapiz escudo terciopelo\, regalo de todos los representantes\, se le dá el OK\, en azul marino ( como los estandartes). Noelia gestionará el tema con el grupo de los representantes\, para informar precio y nos dirá como va. Almudena informa de que aun hay tiempo para encargarlo\, el chico ya lo sabe y nos tiene en cuenta. \n(factura en grupo subida por Almudena) \n  \nY por ultimo \, paso EL PRESUPUESTO \, aprox para saber por donde vamos y con lo que contamos… \n 
URL:https://nicolauandreu.com/event/castillo-fuegos-artificiales-cena-y-orquesta/
LOCATION:Valencia
END:VEVENT
BEGIN:VEVENT
DTSTART;VALUE=DATE:20260318
DTEND;VALUE=DATE:20260319
DTSTAMP:20260425T173412
CREATED:20260312T104922Z
LAST-MODIFIED:20260412T105023Z
UID:8563-1773792000-1773878399@nicolauandreu.com
SUMMARY:TORNEO DE TRUC FALLERO
DESCRIPTION:
URL:https://nicolauandreu.com/event/torneo-de-truc-fallero/
LOCATION:CARPA FALLA
CATEGORIES:DESTACADOS
ATTACH;FMTTYPE=image/jpeg:https://nicolauandreu.com/wp-content/uploads/2026/04/TORNEO-DE-TRUC-FALLERO.jpeg
END:VEVENT
END:VCALENDAR